BEGIN:VCALENDAR
VERSION:2.0
PRODID:-//Tukios.com/
BEGIN:VEVENT
UID:c47ffdb7-0592-4d50-9771-e0dce6f72230@www.compagnolafuneralhome.com
DTSTAMP:20260422T074621Z
DTSTART:20260424T140000Z
DTEND:20260424T160000Z
SUMMARY:Visitation
DESCRIPTION:
URL:https://www.compagnolafuneralhome.com/obituaries/angel-guzman
LOCATION: 4405-07 North 5th St.  Philadelphia PA 19140
GEO:40.0183142;-75.134219
END:VEVENT
END:VCALENDAR