BEGIN:VCALENDAR
VERSION:2.0
PRODID:-//Tukios.com/
BEGIN:VEVENT
UID:9309422d-9aa5-4809-b375-d225b4d69224@www.compagnolafuneralhome.com
DTSTAMP:20260422T074715Z
DTSTART:20260424T163000Z
DTEND:20260424T173000Z
SUMMARY:Burial
DESCRIPTION:
URL:https://www.compagnolafuneralhome.com/obituaries/angel-guzman
LOCATION: 4500 Levick St  Philadelphia PA 19135
GEO:40.0236211;-75.0536025
END:VEVENT
END:VCALENDAR