BEGIN:VCALENDAR
VERSION:2.0
PRODID:-//Tukios.com/
BEGIN:VEVENT
UID:71d7c63f-28f9-4bd5-99bf-cf8ff8b96d8d@www.compagnolafuneralhome.com
DTSTAMP:20260422T001720Z
DTSTART:20260424T210000Z
DTEND:20260425T010000Z
SUMMARY:Viewing
DESCRIPTION:
URL:https://www.compagnolafuneralhome.com/obituaries/julio-munoz-munoz
LOCATION: 4405-07 North 5th St.  Philadelphia PA 19140
GEO:40.0183142;-75.134219
END:VEVENT
END:VCALENDAR