BEGIN:VCALENDAR
VERSION:2.0
PRODID:-//Tukios.com/
BEGIN:VEVENT
UID:57bc3521-4836-45cb-b4dc-347d1234e2a5@www.compagnolafuneralhome.com
DTSTAMP:20260422T074059Z
DTSTART:20260423T140000Z
DTEND:20260423T160000Z
SUMMARY:Visitation
DESCRIPTION:
URL:https://www.compagnolafuneralhome.com/obituaries/manuel-negron-ortiz
LOCATION: 4405-07 North 5th St.  Philadelphia PA 19140
GEO:40.0183142;-75.134219
END:VEVENT
END:VCALENDAR