BEGIN:VCALENDAR
VERSION:2.0
PRODID:-//Tukios.com/
BEGIN:VEVENT
UID:f2eff6c8-b6f2-4104-ae19-066a15601f42@www.compagnolafuneralhome.com
DTSTAMP:20260422T074058Z
DTSTART:20260423T163000Z
DTEND:20260423T173000Z
SUMMARY:Burial
DESCRIPTION:
URL:https://www.compagnolafuneralhome.com/obituaries/manuel-negron-ortiz
LOCATION: 4301 N Front St  Philadelphia PA 19140
GEO:40.0159968;-75.1250482
END:VEVENT
END:VCALENDAR